BEGIN:VCALENDAR
PRODID:http://www.kufer.de/kuferweb / DE
VERSION:2.0
METHOD:PUBLISH
CALSCALE:GREGORIAN
BEGIN:VTIMEZONE
TZID:Europe/Berlin
X-LIC-LOCATION:Europe/Berlin
BEGIN:DAYLIGHT
TZOFFSETFROM:+0100
TZOFFSETTO:+0200
TZNAME:CEST
DTSTART:19700329T020000
RRULE:FREQ=YEARLY;INTERVAL=1;BYDAY=-1SU;BYMONTH=3
END:DAYLIGHT
BEGIN:STANDARD
TZOFFSETFROM:+0200
TZOFFSETTO:+0100
TZNAME:CET
DTSTART:19701025T030000
RRULE:FREQ=YEARLY;INTERVAL=1;BYDAY=-1SU;BYMONTH=10
END:STANDARD
END:VTIMEZONE
BEGIN:VEVENT
DTSTAMP:20260424T193302
DTSTART;TZID=Europe/Berlin:20281113T090000
DTEND;TZID=Europe/Berlin:20281113T170000
UID:28L11701-20281113T090000@FORTBILDUNGSZENTRUM LANGENHAGEN GBR
SUMMARY:28L11701: Manuelle Therapie Refresher (MT REF)
LOCATION:Fortbildungszentrum Langenhagen
END:VEVENT
BEGIN:VEVENT
DTSTAMP:20260424T193302
DTSTART;TZID=Europe/Berlin:20281114T090000
DTEND;TZID=Europe/Berlin:20281114T170000
UID:28L11701-20281114T090000@FORTBILDUNGSZENTRUM LANGENHAGEN GBR
SUMMARY:28L11701: Manuelle Therapie Refresher (MT REF)
LOCATION:Fortbildungszentrum Langenhagen
END:VEVENT
BEGIN:VEVENT
DTSTAMP:20260424T193302
DTSTART;TZID=Europe/Berlin:20281115T090000
DTEND;TZID=Europe/Berlin:20281115T170000
UID:28L11701-20281115T090000@FORTBILDUNGSZENTRUM LANGENHAGEN GBR
SUMMARY:28L11701: Manuelle Therapie Refresher (MT REF)
LOCATION:Fortbildungszentrum Langenhagen
END:VEVENT
BEGIN:VEVENT
DTSTAMP:20260424T193302
DTSTART;TZID=Europe/Berlin:20281116T090000
DTEND;TZID=Europe/Berlin:20281116T170000
UID:28L11701-20281116T090000@FORTBILDUNGSZENTRUM LANGENHAGEN GBR
SUMMARY:28L11701: Manuelle Therapie Refresher (MT REF)
LOCATION:Fortbildungszentrum Langenhagen
END:VEVENT
END:VCALENDAR