BEGIN:VCALENDAR
PRODID:http://www.kufer.de/kuferweb / DE
VERSION:2.0
METHOD:PUBLISH
CALSCALE:GREGORIAN
BEGIN:VTIMEZONE
TZID:Europe/Berlin
X-LIC-LOCATION:Europe/Berlin
BEGIN:DAYLIGHT
TZOFFSETFROM:+0100
TZOFFSETTO:+0200
TZNAME:CEST
DTSTART:19700329T020000
RRULE:FREQ=YEARLY;INTERVAL=1;BYDAY=-1SU;BYMONTH=3
END:DAYLIGHT
BEGIN:STANDARD
TZOFFSETFROM:+0200
TZOFFSETTO:+0100
TZNAME:CET
DTSTART:19701025T030000
RRULE:FREQ=YEARLY;INTERVAL=1;BYDAY=-1SU;BYMONTH=10
END:STANDARD
END:VTIMEZONE
BEGIN:VEVENT
DTSTAMP:20260424T192739
DTSTART;TZID=Europe/Berlin:20271127T090000
DTEND;TZID=Europe/Berlin:20271127T170000
UID:27L11601-20271127T090000@FORTBILDUNGSZENTRUM LANGENHAGEN GBR
SUMMARY:27L11601: Manuelle Therapie Basiskurs - Theoriekurs  (MT BAS)
LOCATION:Fortbildungszentrum Langenhagen
END:VEVENT
BEGIN:VEVENT
DTSTAMP:20260424T192739
DTSTART;TZID=Europe/Berlin:20271128T090000
DTEND;TZID=Europe/Berlin:20271128T170000
UID:27L11601-20271128T090000@FORTBILDUNGSZENTRUM LANGENHAGEN GBR
SUMMARY:27L11601: Manuelle Therapie Basiskurs - Theoriekurs  (MT BAS)
LOCATION:Fortbildungszentrum Langenhagen
END:VEVENT
BEGIN:VEVENT
DTSTAMP:20260424T192739
DTSTART;TZID=Europe/Berlin:20271129T090000
DTEND;TZID=Europe/Berlin:20271129T170000
UID:27L11601-20271129T090000@FORTBILDUNGSZENTRUM LANGENHAGEN GBR
SUMMARY:27L11601: Manuelle Therapie Basiskurs - Theoriekurs  (MT BAS)
LOCATION:Fortbildungszentrum Langenhagen
END:VEVENT
BEGIN:VEVENT
DTSTAMP:20260424T192739
DTSTART;TZID=Europe/Berlin:20271130T090000
DTEND;TZID=Europe/Berlin:20271130T170000
UID:27L11601-20271130T090000@FORTBILDUNGSZENTRUM LANGENHAGEN GBR
SUMMARY:27L11601: Manuelle Therapie Basiskurs - Theoriekurs  (MT BAS)
LOCATION:Fortbildungszentrum Langenhagen
END:VEVENT
END:VCALENDAR